Package: ConnectivityMap Version: 1.47.0 Command: /home/biocbuild/bbs-3.23-bioc/R/bin/R CMD INSTALL ConnectivityMap StartedAt: 2025-11-04 10:55:56 -0500 (Tue, 04 Nov 2025) EndedAt: 2025-11-04 10:55:59 -0500 (Tue, 04 Nov 2025) EllapsedTime: 3.3 seconds RetCode: 0 Status: OK