Package: ConnectivityMap Version: 1.45.0 Command: /home/biocbuild/bbs-3.22-bioc/R/bin/R CMD build --keep-empty-dirs --no-resave-data ConnectivityMap StartedAt: 2025-07-08 11:10:54 -0400 (Tue, 08 Jul 2025) EndedAt: 2025-07-08 11:11:09 -0400 (Tue, 08 Jul 2025) EllapsedTime: 14.9 seconds RetCode: 0 Status: OK PackageFile: ConnectivityMap_1.45.0.tar.gz PackageFileSize: 236.7 MiB