Package: ConnectivityMap Version: 1.45.0 Command: /home/biocbuild/bbs-3.22-bioc/R/bin/R CMD check --install=check:ConnectivityMap.install-out.txt --library=/home/biocbuild/bbs-3.22-bioc/R/site-library --timings ConnectivityMap_1.45.0.tar.gz StartedAt: 2025-07-10 12:08:35 -0400 (Thu, 10 Jul 2025) EndedAt: 2025-07-10 12:11:21 -0400 (Thu, 10 Jul 2025) EllapsedTime: 166.5 seconds RetCode: 0 Status: OK CheckDir: ConnectivityMap.Rcheck Warnings: 0