Package: CopyNeutralIMA Version: 1.27.0 Command: /home/biocbuild/bbs-3.22-bioc/R/bin/R CMD INSTALL CopyNeutralIMA StartedAt: 2025-07-08 11:03:49 -0400 (Tue, 08 Jul 2025) EndedAt: 2025-07-08 11:04:06 -0400 (Tue, 08 Jul 2025) EllapsedTime: 17.3 seconds RetCode: 0 Status: OK