Package: CopyhelpeR Version: 1.41.0 Command: /home/biocbuild/bbs-3.22-bioc/R/bin/R CMD build --keep-empty-dirs --no-resave-data CopyhelpeR StartedAt: 2025-07-08 11:11:05 -0400 (Tue, 08 Jul 2025) EndedAt: 2025-07-08 11:11:13 -0400 (Tue, 08 Jul 2025) EllapsedTime: 7.9 seconds RetCode: 0 Status: OK PackageFile: CopyhelpeR_1.41.0.tar.gz PackageFileSize: 42.66 MiB