Package: CopyhelpeR Version: 1.41.0 Command: /home/biocbuild/bbs-3.22-bioc/R/bin/R CMD INSTALL CopyhelpeR StartedAt: 2025-07-08 10:55:09 -0400 (Tue, 08 Jul 2025) EndedAt: 2025-07-08 10:55:11 -0400 (Tue, 08 Jul 2025) EllapsedTime: 2.0 seconds RetCode: 0 Status: OK