Package: CytoMethIC Version: 1.5.0 Command: /home/biocbuild/bbs-3.22-bioc/R/bin/R CMD build --keep-empty-dirs --no-resave-data CytoMethIC StartedAt: 2025-07-08 11:13:13 -0400 (Tue, 08 Jul 2025) EndedAt: 2025-07-08 11:14:53 -0400 (Tue, 08 Jul 2025) EllapsedTime: 99.6 seconds RetCode: 0 Status: OK PackageFile: CytoMethIC_1.5.0.tar.gz PackageFileSize: 6.466 MiB