Package: CytoMethIC Version: 1.5.0 Command: /home/biocbuild/bbs-3.22-bioc/R/bin/R CMD check --install=check:CytoMethIC.install-out.txt --library=/home/biocbuild/bbs-3.22-bioc/R/site-library --timings CytoMethIC_1.5.0.tar.gz StartedAt: 2025-07-17 12:12:23 -0400 (Thu, 17 Jul 2025) EndedAt: 2025-07-17 12:20:36 -0400 (Thu, 17 Jul 2025) EllapsedTime: 493.8 seconds RetCode: 0 Status: OK CheckDir: CytoMethIC.Rcheck Warnings: 0