Package: DAPARdata Version: 1.39.0 Command: /home/biocbuild/bbs-3.22-bioc/R/bin/R CMD build --keep-empty-dirs --no-resave-data DAPARdata StartedAt: 2025-07-08 11:13:25 -0400 (Tue, 08 Jul 2025) EndedAt: 2025-07-08 11:14:07 -0400 (Tue, 08 Jul 2025) EllapsedTime: 42.0 seconds RetCode: 0 Status: OK PackageFile: DAPARdata_1.39.0.tar.gz PackageFileSize: 29.04 MiB