Package: DAPARdata Version: 1.39.0 Command: /home/biocbuild/bbs-3.22-bioc/R/bin/R CMD INSTALL DAPARdata StartedAt: 2025-07-08 11:00:22 -0400 (Tue, 08 Jul 2025) EndedAt: 2025-07-08 11:00:57 -0400 (Tue, 08 Jul 2025) EllapsedTime: 34.8 seconds RetCode: 0 Status: OK