Package: DExMAdata Version: 1.17.0 Command: /home/biocbuild/bbs-3.22-bioc/R/bin/R CMD build --keep-empty-dirs --no-resave-data DExMAdata StartedAt: 2025-07-10 11:15:27 -0400 (Thu, 10 Jul 2025) EndedAt: 2025-07-10 11:16:34 -0400 (Thu, 10 Jul 2025) EllapsedTime: 67.7 seconds RetCode: 0 Status: OK PackageFile: DExMAdata_1.17.0.tar.gz PackageFileSize: 7.389 MiB