Package: DLBCL Version: 1.51.0 Command: /home/biocbuild/bbs-3.23-bioc/R/bin/R CMD build --keep-empty-dirs --no-resave-data DLBCL StartedAt: 2025-11-06 11:15:11 -0500 (Thu, 06 Nov 2025) EndedAt: 2025-11-06 11:15:12 -0500 (Thu, 06 Nov 2025) EllapsedTime: 1.3 seconds RetCode: 0 Status: OK PackageFile: DLBCL_1.51.0.tar.gz PackageFileSize: 5.525 MiB