Package: DLBCL Version: 1.51.0 Command: /home/biocbuild/bbs-3.23-bioc/R/bin/R CMD INSTALL DLBCL StartedAt: 2025-11-06 10:56:29 -0500 (Thu, 06 Nov 2025) EndedAt: 2025-11-06 10:56:33 -0500 (Thu, 06 Nov 2025) EllapsedTime: 3.8 seconds RetCode: 0 Status: OK