Package: DLBCL Version: 1.49.0 Command: /home/biocbuild/bbs-3.22-bioc/R/bin/R CMD build --keep-empty-dirs --no-resave-data DLBCL StartedAt: 2025-07-08 11:14:53 -0400 (Tue, 08 Jul 2025) EndedAt: 2025-07-08 11:14:55 -0400 (Tue, 08 Jul 2025) EllapsedTime: 1.6 seconds RetCode: 0 Status: OK PackageFile: DLBCL_1.49.0.tar.gz PackageFileSize: 5.525 MiB