Package: DNAZooData Version: 1.11.0 Command: /home/biocbuild/bbs-3.23-bioc/R/bin/R CMD INSTALL DNAZooData StartedAt: 2025-11-06 10:59:48 -0500 (Thu, 06 Nov 2025) EndedAt: 2025-11-06 11:00:15 -0500 (Thu, 06 Nov 2025) EllapsedTime: 26.6 seconds RetCode: 0 Status: OK