Package: DNAZooData Version: 1.9.0 Command: /home/biocbuild/bbs-3.22-bioc/R/bin/R CMD build --keep-empty-dirs --no-resave-data DNAZooData StartedAt: 2025-07-10 11:15:44 -0400 (Thu, 10 Jul 2025) EndedAt: 2025-07-10 11:16:26 -0400 (Thu, 10 Jul 2025) EllapsedTime: 41.7 seconds RetCode: 0 Status: OK PackageFile: DNAZooData_1.9.0.tar.gz PackageFileSize: 235.7 KiB