Package: DNAZooData Version: 1.9.0 Command: /home/biocbuild/bbs-3.22-bioc/R/bin/R CMD INSTALL DNAZooData StartedAt: 2025-07-10 10:59:44 -0400 (Thu, 10 Jul 2025) EndedAt: 2025-07-10 11:00:15 -0400 (Thu, 10 Jul 2025) EllapsedTime: 31.5 seconds RetCode: 0 Status: OK