Package: DeSousa2013 Version: 1.47.0 Command: /home/biocbuild/bbs-3.23-bioc/R/bin/R CMD INSTALL DeSousa2013 StartedAt: 2025-11-06 11:00:30 -0500 (Thu, 06 Nov 2025) EndedAt: 2025-11-06 11:01:01 -0500 (Thu, 06 Nov 2025) EllapsedTime: 31.6 seconds RetCode: 0 Status: OK