Package: DeSousa2013 Version: 1.45.0 Command: /home/biocbuild/bbs-3.22-bioc/R/bin/R CMD build --keep-empty-dirs --no-resave-data DeSousa2013 StartedAt: 2025-07-10 11:15:23 -0400 (Thu, 10 Jul 2025) EndedAt: 2025-07-10 11:16:13 -0400 (Thu, 10 Jul 2025) EllapsedTime: 49.2 seconds RetCode: 0 Status: OK PackageFile: DeSousa2013_1.45.0.tar.gz PackageFileSize: 44.76 MiB