Package: DeSousa2013 Version: 1.45.0 Command: /home/biocbuild/bbs-3.22-bioc/R/bin/R CMD INSTALL DeSousa2013 StartedAt: 2025-07-10 11:00:35 -0400 (Thu, 10 Jul 2025) EndedAt: 2025-07-10 11:01:08 -0400 (Thu, 10 Jul 2025) EllapsedTime: 32.3 seconds RetCode: 0 Status: OK