Package: DonaPLLP2013 Version: 1.47.0 Command: /home/biocbuild/bbs-3.22-bioc/R/bin/R CMD build --keep-empty-dirs --no-resave-data DonaPLLP2013 StartedAt: 2025-07-08 11:14:55 -0400 (Tue, 08 Jul 2025) EndedAt: 2025-07-08 11:19:09 -0400 (Tue, 08 Jul 2025) EllapsedTime: 254.1 seconds RetCode: 0 Status: OK PackageFile: DonaPLLP2013_1.47.0.tar.gz PackageFileSize: 93.77 MiB