Package: DropletTestFiles Version: 1.19.0 Maintainer: Aaron Lun MaintainerEmail: infinite.monkeys.with.keyboards at gmail.com git_url: https://git.bioconductor.org/packages/DropletTestFiles git_branch: devel git_last_commit: 6baf794 git_last_commit_date: 2025-04-15 10:15:33 -0400 (Tue, 15 Apr 2025)