Package: DropletTestFiles Version: 1.21.0 Command: /home/biocbuild/bbs-3.23-bioc/R/bin/R CMD INSTALL DropletTestFiles StartedAt: 2025-11-04 10:57:41 -0500 (Tue, 04 Nov 2025) EndedAt: 2025-11-04 10:57:54 -0500 (Tue, 04 Nov 2025) EllapsedTime: 12.8 seconds RetCode: 0 Status: OK