Package: DropletTestFiles Version: 1.19.0 Command: /home/biocbuild/bbs-3.22-bioc/R/bin/R CMD build --keep-empty-dirs --no-resave-data DropletTestFiles StartedAt: 2025-07-08 11:15:22 -0400 (Tue, 08 Jul 2025) EndedAt: 2025-07-08 11:15:54 -0400 (Tue, 08 Jul 2025) EllapsedTime: 32.2 seconds RetCode: 0 Status: OK PackageFile: DropletTestFiles_1.19.0.tar.gz PackageFileSize: 226.5 KiB