Package: DropletTestFiles Version: 1.19.0 Command: /home/biocbuild/bbs-3.22-bioc/R/bin/R CMD check --install=check:DropletTestFiles.install-out.txt --library=/home/biocbuild/bbs-3.22-bioc/R/site-library --timings DropletTestFiles_1.19.0.tar.gz StartedAt: 2025-07-10 12:15:58 -0400 (Thu, 10 Jul 2025) EndedAt: 2025-07-10 12:18:09 -0400 (Thu, 10 Jul 2025) EllapsedTime: 131.4 seconds RetCode: 0 Status: OK CheckDir: DropletTestFiles.Rcheck Warnings: 0