Package: DuoClustering2018 Version: 1.29.0 Command: /home/biocbuild/bbs-3.23-bioc/R/bin/R CMD build --keep-empty-dirs --no-resave-data DuoClustering2018 StartedAt: 2025-11-04 11:17:19 -0500 (Tue, 04 Nov 2025) EndedAt: 2025-11-04 11:19:52 -0500 (Tue, 04 Nov 2025) EllapsedTime: 152.8 seconds RetCode: 1 Status: ERROR PackageFile: None PackageFileSize: NA