Package: DuoClustering2018 Version: 1.29.0 Command: /home/biocbuild/bbs-3.23-bioc/R/bin/R CMD INSTALL DuoClustering2018 StartedAt: 2025-11-04 10:56:48 -0500 (Tue, 04 Nov 2025) EndedAt: 2025-11-04 10:57:01 -0500 (Tue, 04 Nov 2025) EllapsedTime: 13.1 seconds RetCode: 0 Status: OK