Package: DuoClustering2018 Version: 1.27.0 Command: /home/biocbuild/bbs-3.22-bioc/R/bin/R CMD check --install=check:DuoClustering2018.install-out.txt --library=/home/biocbuild/bbs-3.22-bioc/R/site-library --timings DuoClustering2018_1.27.0.tar.gz StartedAt: 2025-07-15 12:14:38 -0400 (Tue, 15 Jul 2025) EndedAt: 2025-07-15 12:18:54 -0400 (Tue, 15 Jul 2025) EllapsedTime: 256.3 seconds RetCode: 0 Status: OK CheckDir: DuoClustering2018.Rcheck Warnings: 0