Package: DuoClustering2018 Version: 1.27.0 Command: /home/biocbuild/bbs-3.22-bioc/R/bin/R CMD INSTALL DuoClustering2018 StartedAt: 2025-07-08 10:56:50 -0400 (Tue, 08 Jul 2025) EndedAt: 2025-07-08 10:57:02 -0400 (Tue, 08 Jul 2025) EllapsedTime: 11.3 seconds RetCode: 0 Status: OK