Package: DvDdata Version: 1.45.0 Command: /home/biocbuild/bbs-3.22-bioc/R/bin/R CMD INSTALL DvDdata StartedAt: 2025-07-10 10:55:19 -0400 (Thu, 10 Jul 2025) EndedAt: 2025-07-10 10:55:26 -0400 (Thu, 10 Jul 2025) EllapsedTime: 6.7 seconds RetCode: 0 Status: OK