Package: EGSEAdata Version: 1.37.0 Command: /home/biocbuild/bbs-3.22-bioc/R/bin/R CMD build --keep-empty-dirs --no-resave-data EGSEAdata StartedAt: 2025-07-10 11:16:39 -0400 (Thu, 10 Jul 2025) EndedAt: 2025-07-10 11:16:44 -0400 (Thu, 10 Jul 2025) EllapsedTime: 5.6 seconds RetCode: 0 Status: OK PackageFile: EGSEAdata_1.37.0.tar.gz PackageFileSize: 66.58 MiB