Package: EGSEAdata Version: 1.37.0 Command: /home/biocbuild/bbs-3.22-bioc/R/bin/R CMD INSTALL EGSEAdata StartedAt: 2025-07-10 10:55:52 -0400 (Thu, 10 Jul 2025) EndedAt: 2025-07-10 10:55:57 -0400 (Thu, 10 Jul 2025) EllapsedTime: 4.5 seconds RetCode: 0 Status: OK