Package: EatonEtAlChIPseq Version: 0.49.0 Command: /home/biocbuild/bbs-3.23-bioc/R/bin/R CMD build --keep-empty-dirs --no-resave-data EatonEtAlChIPseq StartedAt: 2025-11-06 11:16:10 -0500 (Thu, 06 Nov 2025) EndedAt: 2025-11-06 11:16:12 -0500 (Thu, 06 Nov 2025) EllapsedTime: 1.9 seconds RetCode: 0 Status: OK PackageFile: EatonEtAlChIPseq_0.49.0.tar.gz PackageFileSize: 20.5 MiB