Package: EatonEtAlChIPseq Version: 0.47.0 Command: /home/biocbuild/bbs-3.22-bioc/R/bin/R CMD build --keep-empty-dirs --no-resave-data EatonEtAlChIPseq StartedAt: 2025-07-10 11:16:35 -0400 (Thu, 10 Jul 2025) EndedAt: 2025-07-10 11:16:37 -0400 (Thu, 10 Jul 2025) EllapsedTime: 2.0 seconds RetCode: 0 Status: OK PackageFile: EatonEtAlChIPseq_0.47.0.tar.gz PackageFileSize: 20.5 MiB