Package: EatonEtAlChIPseq Version: 0.47.0 Command: /home/biocbuild/bbs-3.22-bioc/R/bin/R CMD INSTALL EatonEtAlChIPseq StartedAt: 2025-07-10 11:01:11 -0400 (Thu, 10 Jul 2025) EndedAt: 2025-07-10 11:01:36 -0400 (Thu, 10 Jul 2025) EllapsedTime: 24.6 seconds RetCode: 0 Status: OK