Package: FANTOM3and4CAGE Version: 1.45.0 Command: /home/biocbuild/bbs-3.22-bioc/R/bin/R CMD build --keep-empty-dirs --no-resave-data FANTOM3and4CAGE StartedAt: 2025-07-10 11:17:39 -0400 (Thu, 10 Jul 2025) EndedAt: 2025-07-10 11:17:55 -0400 (Thu, 10 Jul 2025) EllapsedTime: 16.0 seconds RetCode: 0 Status: OK PackageFile: FANTOM3and4CAGE_1.45.0.tar.gz PackageFileSize: 34.73 MiB