Package: FieldEffectCrc Version: 1.21.0 Command: /home/biocbuild/bbs-3.23-bioc/R/bin/R CMD build --keep-empty-dirs --no-resave-data FieldEffectCrc StartedAt: 2025-11-04 11:19:10 -0500 (Tue, 04 Nov 2025) EndedAt: 2025-11-04 11:22:16 -0500 (Tue, 04 Nov 2025) EllapsedTime: 185.2 seconds RetCode: 0 Status: OK PackageFile: FieldEffectCrc_1.21.0.tar.gz PackageFileSize: 239.4 KiB