Package: FieldEffectCrc Version: 1.19.0 Command: /home/biocbuild/bbs-3.22-bioc/R/bin/R CMD INSTALL FieldEffectCrc StartedAt: 2025-07-08 11:00:06 -0400 (Tue, 08 Jul 2025) EndedAt: 2025-07-08 11:00:34 -0400 (Tue, 08 Jul 2025) EllapsedTime: 28.1 seconds RetCode: 0 Status: OK