Package: Fletcher2013a Version: 1.47.0 Command: /home/biocbuild/bbs-3.23-bioc/R/bin/R CMD INSTALL Fletcher2013a StartedAt: 2025-11-13 10:56:24 -0500 (Thu, 13 Nov 2025) EndedAt: 2025-11-13 10:56:32 -0500 (Thu, 13 Nov 2025) EllapsedTime: 7.3 seconds RetCode: 0 Status: OK