Package: Fletcher2013a Version: 1.45.0 Command: /home/biocbuild/bbs-3.22-bioc/R/bin/R CMD build --keep-empty-dirs --no-resave-data Fletcher2013a StartedAt: 2025-07-10 11:17:57 -0400 (Thu, 10 Jul 2025) EndedAt: 2025-07-10 11:18:15 -0400 (Thu, 10 Jul 2025) EllapsedTime: 17.3 seconds RetCode: 0 Status: OK PackageFile: Fletcher2013a_1.45.0.tar.gz PackageFileSize: 73.39 MiB