Package: Fletcher2013b Version: 1.47.0 Command: /home/biocbuild/bbs-3.23-bioc/R/bin/R CMD INSTALL Fletcher2013b StartedAt: 2025-10-30 11:03:36 -0400 (Thu, 30 Oct 2025) EndedAt: 2025-10-30 11:04:04 -0400 (Thu, 30 Oct 2025) EllapsedTime: 27.8 seconds RetCode: 0 Status: OK