Package: Fletcher2013b Version: 1.45.0 Command: /home/biocbuild/bbs-3.22-bioc/R/bin/R CMD build --keep-empty-dirs --no-resave-data Fletcher2013b StartedAt: 2025-07-08 11:17:23 -0400 (Tue, 08 Jul 2025) EndedAt: 2025-07-08 11:18:10 -0400 (Tue, 08 Jul 2025) EllapsedTime: 46.9 seconds RetCode: 0 Status: OK PackageFile: Fletcher2013b_1.45.0.tar.gz PackageFileSize: 263.6 MiB