Package: Fletcher2013b Version: 1.45.0 Command: /home/biocbuild/bbs-3.22-bioc/R/bin/R CMD INSTALL Fletcher2013b StartedAt: 2025-07-08 11:03:53 -0400 (Tue, 08 Jul 2025) EndedAt: 2025-07-08 11:04:19 -0400 (Tue, 08 Jul 2025) EllapsedTime: 26.6 seconds RetCode: 0 Status: OK