Package: FlowSorted.Blood.450k Version: 1.49.0 Command: /home/biocbuild/bbs-3.23-bioc/R/bin/R CMD build --keep-empty-dirs --no-resave-data FlowSorted.Blood.450k StartedAt: 2025-11-04 11:19:31 -0500 (Tue, 04 Nov 2025) EndedAt: 2025-11-04 11:20:56 -0500 (Tue, 04 Nov 2025) EllapsedTime: 85.6 seconds RetCode: 0 Status: OK PackageFile: FlowSorted.Blood.450k_1.49.0.tar.gz PackageFileSize: 167.8 MiB