Package: FlowSorted.Blood.450k Version: 1.47.0 Command: /home/biocbuild/bbs-3.22-bioc/R/bin/R CMD INSTALL FlowSorted.Blood.450k StartedAt: 2025-07-08 11:01:38 -0400 (Tue, 08 Jul 2025) EndedAt: 2025-07-08 11:02:49 -0400 (Tue, 08 Jul 2025) EllapsedTime: 71.3 seconds RetCode: 0 Status: OK