############################################################################## ############################################################################## ### ### Running command: ### ### /home/biocbuild/bbs-3.23-bioc/R/bin/R CMD build --keep-empty-dirs --no-resave-data FlowSorted.Blood.EPIC ### ############################################################################## ############################################################################## * checking for file ‘FlowSorted.Blood.EPIC/DESCRIPTION’ ... OK * preparing ‘FlowSorted.Blood.EPIC’: * checking DESCRIPTION meta-information ... OK * installing the package (it is needed to build vignettes) * creating vignettes ... OK * checking for LF line-endings in source and make files and shell scripts * checking for empty or unneeded directories * building ‘FlowSorted.Blood.EPIC_2.15.0.tar.gz’