Package: FlowSorted.Blood.EPIC Version: 2.15.0 Command: /home/biocbuild/bbs-3.23-bioc/R/bin/R CMD build --keep-empty-dirs --no-resave-data FlowSorted.Blood.EPIC StartedAt: 2025-10-30 11:15:57 -0400 (Thu, 30 Oct 2025) EndedAt: 2025-10-30 11:19:21 -0400 (Thu, 30 Oct 2025) EllapsedTime: 204.5 seconds RetCode: 1 Status: ERROR PackageFile: None PackageFileSize: NA