Package: FlowSorted.Blood.EPIC Version: 2.13.0 Command: /home/biocbuild/bbs-3.22-bioc/R/bin/R CMD build --keep-empty-dirs --no-resave-data FlowSorted.Blood.EPIC StartedAt: 2025-07-08 11:17:28 -0400 (Tue, 08 Jul 2025) EndedAt: 2025-07-08 11:23:09 -0400 (Tue, 08 Jul 2025) EllapsedTime: 340.3 seconds RetCode: 0 Status: OK PackageFile: FlowSorted.Blood.EPIC_2.13.0.tar.gz PackageFileSize: 96.22 KiB