Package: FlowSorted.Blood.EPIC Version: 2.13.0 Command: /home/biocbuild/bbs-3.22-bioc/R/bin/R CMD check --install=check:FlowSorted.Blood.EPIC.install-out.txt --library=/home/biocbuild/bbs-3.22-bioc/R/site-library --timings FlowSorted.Blood.EPIC_2.13.0.tar.gz StartedAt: 2025-07-10 12:21:03 -0400 (Thu, 10 Jul 2025) EndedAt: 2025-07-10 12:39:14 -0400 (Thu, 10 Jul 2025) EllapsedTime: 1091.1 seconds RetCode: 0 Status: OK CheckDir: FlowSorted.Blood.EPIC.Rcheck Warnings: 0