Package: FlowSorted.Blood.EPIC Version: 2.13.0 Command: /home/biocbuild/bbs-3.22-bioc/R/bin/R CMD INSTALL FlowSorted.Blood.EPIC StartedAt: 2025-07-08 11:01:39 -0400 (Tue, 08 Jul 2025) EndedAt: 2025-07-08 11:02:22 -0400 (Tue, 08 Jul 2025) EllapsedTime: 42.5 seconds RetCode: 0 Status: OK